BEGIN:VCALENDAR
VERSION:2.0
PRODID:-//https://ischiaeventi.com///NONSGML kigkonsult.se iCalcreator 2.10.15//
METHOD:PUBLISH
BEGIN:VEVENT
UID:20260419T201234UTC-0594eIhaT4@https://ischiaeventi.com/
DTSTAMP:20260419T201234Z
DESCRIPTION:Summer Time Serrara: 'LE LINEE EI COLORI DI MONDRIAN' ATTIVITÀ 
 LABORATORIALE PER BAMBINI A CURA DE IL MONDO DI ALICE https://ischiaeventi
 .com/luoghi-sede-degli-eventi/evento/31248-summer-time-serrara-le-linee-ei
 -colori-di-mondrian
DTSTART:20240821T170000Z
DTEND:20240821T190000Z
LOCATION:Piazza Succhivo (Via Succhivo\, 80070 Sant'Angelo NA\, Italia)
SUMMARY:Summer Time Serrara: 'LE LINEE EI COLORI DI MONDRIAN' 
URL:https://ischiaeventi.com/luoghi-sede-degli-eventi/evento/31248-summer-t
 ime-serrara-le-linee-ei-colori-di-mondrian
END:VEVENT
END:VCALENDAR
