BEGIN:VCALENDAR
VERSION:2.0
PRODID:-//https://ischiaeventi.com///NONSGML kigkonsult.se iCalcreator 2.10.15//
METHOD:PUBLISH
BEGIN:VEVENT
UID:20260419T201142UTC-0593XjoueZ@https://ischiaeventi.com/
DTSTAMP:20260419T201142Z
DESCRIPTION:Summer Time Serrara: MUSICNIGHT CON I PERSONAL https://ischiaev
 enti.com/luoghi-sede-degli-eventi/evento/31249-summer-time-serrara-musicni
 ght-con-i-personal
DTSTART:20240822T190000Z
DTEND:20240822T210000Z
LOCATION:Piazza Sant'Angelo  (80070 Serrara Fontana NA\, Italia)
SUMMARY:Summer Time Serrara: MUSICNIGHT CON I PERSONAL
URL:https://ischiaeventi.com/luoghi-sede-degli-eventi/evento/31249-summer-t
 ime-serrara-musicnight-con-i-personal
END:VEVENT
END:VCALENDAR
