BEGIN:VCALENDAR
VERSION:2.0
PRODID:-//https://ischiaeventi.com///NONSGML kigkonsult.se iCalcreator 2.10.15//
METHOD:PUBLISH
BEGIN:VEVENT
UID:20260419T202758UTC-5500B4Ux8r@https://ischiaeventi.com/
DTSTAMP:20260419T202758Z
DESCRIPTION:18.00 DRUM DAY stupefacente esibiione musicale di adulti e picc
 ini con bassisti e chitarristi che accompagneranno le note di famosi grupp
 i musicali in Forio https://ischiaeventi.com/luoghi-sede-degli-eventi/even
 to/34084-forio-merryland-drum-day
DTSTART:20241208T170000Z
DTEND:20241208T180000Z
LOCATION:Comune di Forio (Piazza Municipio\, 1\, 80075 Forio NA\, Italia)
SUMMARY:Forio MerryLand: DRUM DAY 
URL:https://ischiaeventi.com/luoghi-sede-degli-eventi/evento/34084-forio-me
 rryland-drum-day
END:VEVENT
END:VCALENDAR
