BEGIN:VCALENDAR
VERSION:2.0
PRODID:-//https://ischiaeventi.com///NONSGML kigkonsult.se iCalcreator 2.10.15//
METHOD:PUBLISH
BEGIN:VEVENT
UID:20260419T201626UTC-1054oVSxs3@https://ischiaeventi.com/
DTSTAMP:20260419T201626Z
DESCRIPTION:Reading teatrale con musiche ‘eseguite da Pithecusa Brass Ensem
 ble Regia di Salvatore Ronga - a cura dell'Associazione Culturale Metamorp
 hosis https://ischiaeventi.com/luoghi-sede-degli-eventi/evento/38248-lacco
 -ameno-in-canti-di-natale-ricordo-di-natale
DTSTART:20241230T170000Z
DTEND:20241230T190000Z
LOCATION:Villa Arbusto (Corso Angelo Rizzoli\, 194\, 80076 Lacco Ameno NA\,
  Italia)
SUMMARY:Lacco Ameno In-canti di Natale: Ricordo di Natale
URL:https://ischiaeventi.com/luoghi-sede-degli-eventi/evento/38248-lacco-am
 eno-in-canti-di-natale-ricordo-di-natale
END:VEVENT
END:VCALENDAR
