BEGIN:VCALENDAR
VERSION:2.0
PRODID:-//https://ischiaeventi.com///NONSGML kigkonsult.se iCalcreator 2.10.15//
METHOD:PUBLISH
BEGIN:VEVENT
UID:20260419T201658UTC-14414sr5i9@https://ischiaeventi.com/
DTSTAMP:20260419T201658Z
DESCRIPTION:Concerto dei Giassel Voice A cura dell'Associazione Jaaz https:
 //ischiaeventi.com/luoghi-sede-degli-eventi/evento/38252-lacco-ameno-in-ca
 nti-di-natale-gospel-dellepifania
DTSTART:20250105T160000Z
DTEND:20250105T180000Z
LOCATION:Basilica di Santa Restituta (Piazza San Restituta\, 1\, 80076 Lacc
 o Ameno NA\, Italia)
SUMMARY:Lacco Ameno In-canti di Natale: Gospel dell'Epifania
URL:https://ischiaeventi.com/luoghi-sede-degli-eventi/evento/38252-lacco-am
 eno-in-canti-di-natale-gospel-dellepifania
END:VEVENT
END:VCALENDAR
