BEGIN:VCALENDAR
VERSION:2.0
PRODID:-//https://ischiaeventi.com///NONSGML kigkonsult.se iCalcreator 2.10.15//
METHOD:PUBLISH
BEGIN:VEVENT
UID:20260423T112711UTC-8834zKlvAo@https://ischiaeventi.com/
DTSTAMP:20260423T112711Z
DESCRIPTION:Artistic Direction – Lina Tufano\nYoul Sun – PianoMusic by Clem
 enti\, Debussy\, Alkan\, Liszt\, Smit\nBooking rules and behavior€20.00 - 
 Full price€15.00 - Children aged 12 to 18\; Residents of the Municipalitie
 s of the Island of IschiaFree admission - Disabled people with a certifica
 te of disability over 51% (entrances based on seat availability)\nATTENTIO
 N:The concert takes place indoors and lasts about 60 minutes.Mandatory nom
 inal reservation at the ticket office of the La Mortella Gardens\,on Tuesd
 ay\, Thursday\, Saturday and Sunday from 10 to 18 or by telephone 081-9862
 20.It is recommended to show up in good time (at least 40 minutes before t
 he start of the concert).Compliance with the Anti Covid19 regulations in f
 orce is mandatory (Legislative Decree 24/03/2022):It is recommended to wea
 r the FFP2 mask for the entire duration of the concert.The attendance regi
 ster will be kept for 14 days as required by law.The Management reserves t
 he right to modify the program in case of technical or artistic needs. htt
 ps://ischiaeventi.com/en/calendar/event/249754-musical-meetings-spring---s
 ummer-season-youl-sun---piano
DTSTART:20260426T150000Z
DTEND:20260426T163000Z
LOCATION:Giardini La Mortella (Via Francesco Calise\, 39 - 80075 Forio NA\,
  Italia)
SUMMARY:Musical Meetings\, Spring – Summer Season: Youl Sun – Piano
URL:https://ischiaeventi.com/en/calendar/event/249754-musical-meetings-spri
 ng---summer-season-youl-sun---piano
END:VEVENT
BEGIN:VEVENT
UID:20260423T112711UTC-8837VoUPAf@https://ischiaeventi.com/
DTSTAMP:20260423T112711Z
DESCRIPTION:PURE FANTASY: SEEING BEYOND FORMSby Domenico Iacono\nApril 24–2
 7\, 2026Opening hours: 10:30–13:00 | 15:30–20:00\nApril 24 at 7:00 PM – Ve
 rnissage (Opening Event)\nLocation:Torre del Molino (former Bourbon Prison
 )Spiaggia della Mandra – Ischia https://ischiaeventi.com/en/calendar/event
 /249862-vernissage-pure-fantasy---seeing-beyond-forms
DTSTART:20260426T083000Z
DTEND:20260426T180000Z
LOCATION:Torre del Molino (Spiaggia dei Pescatori\, 80077 Ischia NA\, Itali
 a)
SUMMARY:Vernissage: PURE FANTASY – SEEING BEYOND FORMS
URL:https://ischiaeventi.com/en/calendar/event/249862-vernissage-pure-fanta
 sy---seeing-beyond-forms
END:VEVENT
BEGIN:VEVENT
UID:20260423T112711UTC-88386c00kU@https://ischiaeventi.com/
DTSTAMP:20260423T112711Z
DESCRIPTION:\nSHOWTIMES: 19:00 - 21:30 Hall 1Title: MichaelRelease: USAGenr
 e: Drama\, biographical\, musicalDirected by:&nbsp\;Antoine FuquaRuntime: 
 127 minutesRating: kids +13Cast:&nbsp\;Jaafar Jackson\, Miles Teller\, Col
 man Domingo\, Nia Long\, Juliano Valdi\, Joe Gillette\, Kat Graham\, Laura
  Harrier\, Larenz Tate\, Derek Luke\, Jessica Sula\, Kendrick Sampson\, Jo
 seph David-Jones\nPLOT\nMichael\, a film directed by Antoine Fuqua\, bring
 s to the screen the story\, career\, and legacy of Michael Jackson (Jaafar
  Jackson)\, one of the most iconic and influential figures in the history 
 of global music.The film traces his entire life\, from his early performan
 ces as a child with the Jackson 5\, through the ?? discipline and abuse he
  endured from his father Joe Jackson (Colman Domingo)\, to the meteoric ri
 se that crowned him the King of Pop. The narrative explores the emergence 
 of his precocious talent and his transformation into a visionary artist\, 
 driven by relentless creative ambition and a constant pursuit of perfectio
 n. From his groundbreaking solo performances in the 1970s to the record-br
 eaking success of Thriller\, from the purchase of the Neverland estate to 
 his charitable efforts\, the film portrays Jackson both as a global phenom
 enon and as a man\, shedding light on the complexities of his private life
 .Through key encounters with influential figures such as Berry Gordy (Lare
 nz Tate)\, Diana Ross (Kat Graham)\, Quincy Jones (Kendrick Sampson)\, and
  attorney John Branca (Miles Teller)\, we gain insight into the behind-the
 -scenes of his career and his most important relationships. The story also
  touches on more intimate moments\, including the birth of his children an
 d his final weeks\, culminating in the tragic and unexpected death on June
  25\, 2009.A journey that allows audiences to see the artist as never befo
 re\, celebrating his extraordinary talent and the lasting impact he left o
 n global pop culture.\n\n\n https://ischiaeventi.com/en/calendar/event/249
 903-michael-2-screenings-hall-1
DTSTART:20260426T170000Z
DTEND:20260426T210000Z
LOCATION:Cinema Excelsior (Via Francesco Sogliuzzo\, 18\, 80077 Ischia NA\,
  Italia)
SUMMARY:Michael (2 screenings) Hall 1 
URL:https://ischiaeventi.com/en/calendar/event/249903-michael-2-screenings-
 hall-1
END:VEVENT
BEGIN:VEVENT
UID:20260423T112711UTC-8841NgMewJ@https://ischiaeventi.com/
DTSTAMP:20260423T112711Z
DESCRIPTION:Two days dedicated to the warm season\, the community\, and the
  traditions of our territory.\nLeisure time\, sports\, entertainment\, and
  activities for children\, along with local craft markets and stands featu
 ring traditional products\, to enjoy festive moments filled with colors\, 
 flavors\, and fun.\nApril 26 – ForioMay 10 – Panza\nAn opportunity to come
  together\, highlight local communities\, and celebrate the arrival of spr
 ing with activities for all ages.\n—\nWe look forward to seeing you and sh
 aring two festive days together\, among sea\, nature\, and traditions! htt
 ps://ischiaeventi.com/en/calendar/event/249905-welcome-spring
DTSTART;VALUE=DATE:20260426
LOCATION:Comune di Forio (Piazza Municipio\, 1\, 80075 Forio NA\, Italia)
SUMMARY:Welcome Spring
URL:https://ischiaeventi.com/en/calendar/event/249905-welcome-spring
END:VEVENT
END:VCALENDAR
