BEGIN:VCALENDAR
VERSION:2.0
PRODID:-//https://ischiaeventi.com///NONSGML kigkonsult.se iCalcreator 2.10.15//
METHOD:PUBLISH
BEGIN:VEVENT
UID:20260423T112731UTC-9315nwcVD6@https://ischiaeventi.com/
DTSTAMP:20260423T112731Z
DESCRIPTION:Artistic Direction – Lina Tufano\n\n\n\n\n\n\n\n\n\n\n\n\n\n\nG
 abriel Meloni – PianoMusic by Tchaikovsky\, Mahler\, Schumann\, Scriabin\n
 \n\n\n\n\n\n\nBooking rules and behavior€20.00 - Full price€15.00 - Childr
 en aged 12 to 18\; Residents of the Municipalities of the Island of Ischia
 Free admission - Disabled people with a certificate of disability over 51%
  (entrances based on seat availability)\nATTENTION:The concert takes place
  indoors and lasts about 60 minutes.Mandatory nominal reservation at the t
 icket office of the La Mortella Gardens\,on Tuesday\, Thursday\, Saturday 
 and Sunday from 10 to 18 or by telephone 081-986220.It is recommended to s
 how up in good time (at least 40 minutes before the start of the concert).
 Compliance with the Anti Covid19 regulations in force is mandatory (Legisl
 ative Decree 24/03/2022):It is recommended to wear the FFP2 mask for the e
 ntire duration of the concert.The attendance register will be kept for 14 
 days as required by law.The Management reserves the right to modify the pr
 ogram in case of technical or artistic needs. https://ischiaeventi.com/en/
 calendar/event/249756-musical-meetings-spring---summer-season-gabriel-melo
 ni---piano
DTSTART:20260503T150000Z
DTEND:20260503T163000Z
LOCATION:Giardini La Mortella (Via Francesco Calise\, 39 - 80075 Forio NA\,
  Italia)
SUMMARY:Musical Meetings\, Spring – Summer Season: Gabriel Meloni – Piano
URL:https://ischiaeventi.com/en/calendar/event/249756-musical-meetings-spri
 ng---summer-season-gabriel-meloni---piano
END:VEVENT
BEGIN:VEVENT
UID:20260423T112731UTC-9318UaR9jK@https://ischiaeventi.com/
DTSTAMP:20260423T112731Z
DESCRIPTION:7:00 PM – Procession of the venerated image of Saint Francis of
  Paola with the participation of the musical association “Papa Giovanni XX
 III” of the town of Forio\, along Via Tommaso Cigliano\, Via Aiemita\, Via
  Fortino\, Via Spine Sante\, and back.\nAt the Fortino and at Chiaia\, a f
 ireworks display in honor of the great Saint.\nMemorial ceremony and tribu
 te to those lost at sea\, with the offering of a laurel wreath at the A.N.
 M.I. monument.\nIn the church\, veneration of the relic (kissing of the re
 lic). https://ischiaeventi.com/en/calendar/event/249910-celebrations-in-ho
 nor-of-saint-francis-of-paola-procession
DTSTART:20260503T170000Z
DTEND:20260503T183000Z
LOCATION:Santuario di San Francesco di Paola  (Via Tommaso Cigliano\, 144\,
  80075 Forio NA\, Italy)
SUMMARY:Celebrations in honor of Saint Francis of Paola: Procession
URL:https://ischiaeventi.com/en/calendar/event/249910-celebrations-in-honor
 -of-saint-francis-of-paola-procession
END:VEVENT
END:VCALENDAR
