BEGIN:VCALENDAR
VERSION:2.0
PRODID:-//https://ischiaeventi.com///NONSGML kigkonsult.se iCalcreator 2.10.15//
METHOD:PUBLISH
BEGIN:VEVENT
UID:20260423T160410UTC-28148GAdpR@https://ischiaeventi.com/
DTSTAMP:20260423T160410Z
DESCRIPTION:Artistic Direction – Lina Tufano\n\n\n\n\n\n\n\n\n\n\n\n\n\n\nN
 ikita Burzanitsa – PianoMusic by Brahms\, Beethoven\, Liszt\, Ravel\, Stra
 vinsky\n\n\n\n\n\n\n\nBooking rules and behavior€20.00 - Full price€15.00 
 - Children aged 12 to 18\; Residents of the Municipalities of the Island o
 f IschiaFree admission - Disabled people with a certificate of disability 
 over 51% (entrances based on seat availability)\nATTENTION:The concert tak
 es place indoors and lasts about 60 minutes.Mandatory nominal reservation 
 at the ticket office of the La Mortella Gardens\,on Tuesday\, Thursday\, S
 aturday and Sunday from 10 to 18 or by telephone 081-986220.It is recommen
 ded to show up in good time (at least 40 minutes before the start of the c
 oncert).Compliance with the Anti Covid19 regulations in force is mandatory
  (Legislative Decree 24/03/2022):It is recommended to wear the FFP2 mask f
 or the entire duration of the concert.The attendance register will be kept
  for 14 days as required by law.The Management reserves the right to modif
 y the program in case of technical or artistic needs. https://ischiaeventi
 .com/en/calendar/event/249758-musical-meetings-spring---summer-season-niki
 ta-burzanitsa---piano
DTSTART:20260510T150000Z
DTEND:20260510T163000Z
LOCATION:Giardini La Mortella (Via Francesco Calise\, 39 - 80075 Forio NA\,
  Italia)
SUMMARY:Musical Meetings\, Spring – Summer Season: Nikita Burzanitsa – Pian
 o
URL:https://ischiaeventi.com/en/calendar/event/249758-musical-meetings-spri
 ng---summer-season-nikita-burzanitsa---piano
END:VEVENT
BEGIN:VEVENT
UID:20260423T160410UTC-2817C1at1v@https://ischiaeventi.com/
DTSTAMP:20260423T160410Z
DESCRIPTION:Two days dedicated to the warm season\, the community\, and the
  traditions of our territory.\nLeisure time\, sports\, entertainment\, and
  activities for children\, along with local craft markets and stands featu
 ring traditional products\, to enjoy festive moments filled with colors\, 
 flavors\, and fun.\nApril 26 – ForioMay 10 – Panza\nAn opportunity to come
  together\, highlight local communities\, and celebrate the arrival of spr
 ing with activities for all ages.\n—\nWe look forward to seeing you and sh
 aring two festive days together\, among sea\, nature\, and traditions! htt
 ps://ischiaeventi.com/en/calendar/event/249906-welcome-spring
DTSTART;VALUE=DATE:20260510
LOCATION:Comune di Forio (Piazza Municipio\, 1\, 80075 Forio NA\, Italia)
SUMMARY:Welcome Spring
URL:https://ischiaeventi.com/en/calendar/event/249906-welcome-spring
END:VEVENT
END:VCALENDAR
